BEGIN:VCALENDAR
VERSION:2.0
PRODID:-//eventon.com NONSGML v1.0//EN
CALSCALE:GREGORIAN
METHOD:PUBLISH
BEGIN:VEVENT
UID:69e8acedcc6d6
DTSTAMP:20260422T111141Z
DTSTART:20190703T190000Z
DTEND:20190703T235000Z
LOCATION:Worth Matravers Village Car Park\,  BH19 3LY
SUMMARY:Wednesday Night Out and About
DESCRIPTION:Meet at the village car park and drink afterwards in the Square
  and Compass.\nhttps://purbeckrunners.co.uk/race-event/worth-matravers-wed-
 eve/
URL:https://purbeckrunners.co.uk/race-event/worth-matravers-wed-eve/
END:VEVENT
END:VCALENDAR