BEGIN:VCALENDAR
VERSION:2.0
PRODID:-//eventon.com NONSGML v1.0//EN
CALSCALE:GREGORIAN
METHOD:PUBLISH
BEGIN:VEVENT
UID:69e88fc0ed071
DTSTAMP:20260422T090712Z
DTSTART:20230611T100000Z
DTEND:20230611T235000Z
LOCATION:
SUMMARY:Puddletown Plod Half Marathon (Club Championship\,  DRRL\,  DCC)
DESCRIPTION:CLUB CHAMPIONSHIP Dorset Road Race League Dorset County Champio
 nship http://www.puddletownplod.co.uk/?page=how_to_enter\nhttps://purbeckru
 nners.co.uk/race-event/puddletown-plod-half-marathon/
URL:https://purbeckrunners.co.uk/race-event/puddletown-plod-half-marathon/
END:VEVENT
END:VCALENDAR