BEGIN:VCALENDAR
VERSION:2.0
PRODID:-//eventon.com NONSGML v1.0//EN
CALSCALE:GREGORIAN
METHOD:PUBLISH
BEGIN:VEVENT
UID:69ed734097600
DTSTAMP:20260426T020656Z
DTSTART:20270801
DTEND:20270802
LOCATION:
SUMMARY:Sunday Morning Club Run
DESCRIPTION:Details of Sunday Morning Club Runs are posted in the members a
 rea of the website\nhttps://purbeckrunners.co.uk/race-event/sunday-morning-
 club-run/var/ri-79.l-L1
URL:https://purbeckrunners.co.uk/race-event/sunday-morning-club-run/var/ri-79.l-L1
END:VEVENT
END:VCALENDAR