BEGIN:VCALENDAR
VERSION:2.0
PRODID:-//eventon.com NONSGML v1.0//EN
CALSCALE:GREGORIAN
METHOD:PUBLISH
BEGIN:VEVENT
UID:69ed5ed7885ae
DTSTAMP:20260426T003951Z
DTSTART:20270725
DTEND:20270726
LOCATION:
SUMMARY:Sunday Morning Club Run
DESCRIPTION:Details of Sunday Morning Club Runs are posted in the members a
 rea of the website\nhttps://purbeckrunners.co.uk/race-event/sunday-morning-
 club-run/var/ri-78.l-L1
URL:https://purbeckrunners.co.uk/race-event/sunday-morning-club-run/var/ri-78.l-L1
END:VEVENT
END:VCALENDAR