BEGIN:VCALENDAR
VERSION:2.0
PRODID:-//eventon.com NONSGML v1.0//EN
CALSCALE:GREGORIAN
METHOD:PUBLISH
BEGIN:VEVENT
UID:69e8941eb8d21
DTSTAMP:20260422T092550Z
DTSTART:20270214
DTEND:20270215
LOCATION:
SUMMARY:Sunday Morning Club Run
DESCRIPTION:Details of Sunday Morning Club Runs are posted in the members a
 rea of the website\nhttps://purbeckrunners.co.uk/race-event/sunday-morning-
 club-run/var/ri-55.l-L1
URL:https://purbeckrunners.co.uk/race-event/sunday-morning-club-run/var/ri-55.l-L1
END:VEVENT
END:VCALENDAR