BEGIN:VCALENDAR
VERSION:2.0
PRODID:-//eventon.com NONSGML v1.0//EN
CALSCALE:GREGORIAN
METHOD:PUBLISH
BEGIN:VEVENT
UID:69e4f8a24ed0e
DTSTAMP:20260419T154538Z
DTSTART:20260419
DTEND:20260420
LOCATION:
SUMMARY:Sunday Morning Club Run
DESCRIPTION:Details of Sunday Morning Club Runs are posted in the members a
 rea of the website\nhttps://purbeckrunners.co.uk/race-event/sunday-morning-
 club-run/var/ri-12.l-L1
URL:https://purbeckrunners.co.uk/race-event/sunday-morning-club-run/var/ri-12.l-L1
END:VEVENT
END:VCALENDAR