BEGIN:VCALENDAR
VERSION:2.0
PRODID:-//eventon.com NONSGML v1.0//EN
CALSCALE:GREGORIAN
METHOD:PUBLISH
BEGIN:VEVENT
UID:69ecfaf43ee7c
DTSTAMP:20260425T173340Z
DTSTART:20281101T190000Z
DTEND:20281101T235900Z
LOCATION:
SUMMARY:Wednesday Evening Club Run
DESCRIPTION:Meeting location\,  meeting times and activities vary and detai
 ls are posted in the members area of the website\nhttps://purbeckrunners.co
 .uk/race-event/wednesday-evening-club-run/var/ri-147.l-L1
URL:https://purbeckrunners.co.uk/race-event/wednesday-evening-club-run/var/ri-147.l-L1
END:VEVENT
END:VCALENDAR