BEGIN:VCALENDAR
VERSION:2.0
PRODID:-//eventon.com NONSGML v1.0//EN
CALSCALE:GREGORIAN
METHOD:PUBLISH
BEGIN:VEVENT
UID:69ebf9ecaf49e
DTSTAMP:20260424T231700Z
DTSTART:20280809T190000Z
DTEND:20280809T235900Z
LOCATION:
SUMMARY:Wednesday Evening Club Run
DESCRIPTION:Meeting location\,  meeting times and activities vary and detai
 ls are posted in the members area of the website\nhttps://purbeckrunners.co
 .uk/race-event/wednesday-evening-club-run/var/ri-135.l-L1
URL:https://purbeckrunners.co.uk/race-event/wednesday-evening-club-run/var/ri-135.l-L1
END:VEVENT
END:VCALENDAR