BEGIN:VCALENDAR
VERSION:2.0
PRODID:-//eventon.com NONSGML v1.0//EN
CALSCALE:GREGORIAN
METHOD:PUBLISH
BEGIN:VEVENT
UID:69e9143558f02
DTSTAMP:20260422T183221Z
DTSTART:20280531T190000Z
DTEND:20280531T235900Z
LOCATION:
SUMMARY:Wednesday Evening Club Run
DESCRIPTION:Meeting location\,  meeting times and activities vary and detai
 ls are posted in the members area of the website\nhttps://purbeckrunners.co
 .uk/race-event/wednesday-evening-club-run/var/ri-125.l-L1
URL:https://purbeckrunners.co.uk/race-event/wednesday-evening-club-run/var/ri-125.l-L1
END:VEVENT
END:VCALENDAR