BEGIN:VCALENDAR
VERSION:2.0
PRODID:-//eventon.com NONSGML v1.0//EN
CALSCALE:GREGORIAN
METHOD:PUBLISH
BEGIN:VEVENT
UID:69e60b8d663f2
DTSTAMP:20260420T111837Z
DTSTART:20251109T093000Z
DTEND:20251109T235900Z
LOCATION:
SUMMARY:Blue Castle Run 7miles (PTS)
DESCRIPTION:Purbeck Trail Series https://www.bluecastlerun.co.uk/\nhttps://
 purbeckrunners.co.uk/race-event/blue-castle-run-7miles-pts/
URL:https://purbeckrunners.co.uk/race-event/blue-castle-run-7miles-pts/
END:VEVENT
END:VCALENDAR